BEGIN:VCALENDAR
VERSION:2.0
PRODID:-//eventon.com NONSGML v1.0//EN
CALSCALE:GREGORIAN
METHOD:PUBLISH
BEGIN:VEVENT
UID:69e8be6bbf87f
DTSTAMP:20260422T122619Z
DTSTART:20261124T143000Z
DTEND:20261124T163000Z
LOCATION:
SUMMARY:Raleigh - A Hero of Devon
DESCRIPTION:Raleigh - A Hero of Devon\nhttps://colytonheritagecentre.org/ev
 ents/raleigh-a-hero-of-devon/
URL:https://colytonheritagecentre.org/events/raleigh-a-hero-of-devon/
END:VEVENT
END:VCALENDAR