BEGIN:VCALENDAR
VERSION:2.0
PRODID:-//eventon.com NONSGML v1.0//EN
CALSCALE:GREGORIAN
METHOD:PUBLISH
BEGIN:VEVENT
UID:69e8c0b888379
DTSTAMP:20260422T123608Z
DTSTART:20261027T143000Z
DTEND:20261027T163000Z
LOCATION:
SUMMARY:The Story of Axmouth Harbour
DESCRIPTION:The Story of Axmouth Harbour\nhttps://colytonheritagecentre.org
 /events/the-story-of-axmouth-harbour/
URL:https://colytonheritagecentre.org/events/the-story-of-axmouth-harbour/
END:VEVENT
END:VCALENDAR