BEGIN:VCALENDAR
VERSION:2.0
PRODID:-//eventon.com NONSGML v1.0//EN
CALSCALE:GREGORIAN
METHOD:PUBLISH
BEGIN:VEVENT
UID:69e8c01c29316
DTSTAMP:20260422T123332Z
DTSTART:20260922T143000Z
DTEND:20260922T163000Z
LOCATION:
SUMMARY:Killerton and the Paulise de Bush Costume Collection
DESCRIPTION:Killerton and the Paulise de Bush Costume Collection\nhttps://c
 olytonheritagecentre.org/events/killerton-and-the-paulise-de-bush-costume-c
 ollection/
URL:https://colytonheritagecentre.org/events/killerton-and-the-paulise-de-bush-costume-collection/
END:VEVENT
END:VCALENDAR