BEGIN:VCALENDAR
VERSION:2.0
PRODID:-//eventon.com NONSGML v1.0//EN
CALSCALE:GREGORIAN
METHOD:PUBLISH
BEGIN:VEVENT
UID:69e8be6bbc528
DTSTAMP:20260422T122619Z
DTSTART:20260428T143000Z
DTEND:20260428T163000Z
LOCATION:
SUMMARY:Traditional Songs of Devon
DESCRIPTION:Traditional Songs of Devon\nhttps://colytonheritagecentre.org/e
 vents/traditional-songs-of-devon/
URL:https://colytonheritagecentre.org/events/traditional-songs-of-devon/
END:VEVENT
END:VCALENDAR